BEGIN:VCALENDAR
VERSION:2.0
PRODID:-// - ECPv6.12.0.1//NONSGML v1.0//EN
CALSCALE:GREGORIAN
METHOD:PUBLISH
X-ORIGINAL-URL:https://www.deballoohoeve.nl
X-WR-CALDESC:Evenementen voor 
REFRESH-INTERVAL;VALUE=DURATION:PT1H
X-Robots-Tag:noindex
X-PUBLISHED-TTL:PT1H
BEGIN:VTIMEZONE
TZID:Europe/Amsterdam
BEGIN:DAYLIGHT
TZOFFSETFROM:+0100
TZOFFSETTO:+0200
TZNAME:CEST
DTSTART:20190331T010000
END:DAYLIGHT
BEGIN:STANDARD
TZOFFSETFROM:+0200
TZOFFSETTO:+0100
TZNAME:CET
DTSTART:20191027T010000
END:STANDARD
END:VTIMEZONE
BEGIN:VEVENT
DTSTART;TZID=Europe/Amsterdam:20190420T100000
DTEND;TZID=Europe/Amsterdam:20190420T160000
DTSTAMP:20260424T030518
CREATED:20190111T221325Z
LAST-MODIFIED:20190417T175640Z
UID:475-1555754400-1555776000@www.deballoohoeve.nl
SUMMARY:Voorjaarsmarkt
DESCRIPTION:Op 20 april zal\, op de Balloohoeve\, de 5de voorjaarsmarkt gehouden worden. \nIedereen is welkom tussen 10:00 en 16:00\, gratis entree en voldoende parkeergelegenheid. \nEen grote diversiteit aan standhouders zullen hun productene en diensten aanbieden. Van zelfgemaakte kaarsen tot Tupperware en voetreflexzonetherapie tot English Pie. \nTijdens de markt is er voor de kinderen een kinderplein met springkussen en zal de brandweer langs komen. \nDe winkel van de Balloohoeve heeft ook leuke aanbiedingen en natuurlijk is het zelfgemaakte ijs er in vele smaken te koop. Op het terras kunt u genieten van bijvoorbeeld een kopje koffie of thee met een zelf afgebakken koek.
URL:https://www.deballoohoeve.nl/event/paasmarkt/
LOCATION:De Balloohoeve\, Balloo 52\, Balloo\, 9458 TC\, Nederland
ATTACH;FMTTYPE=image/jpeg:https://www.deballoohoeve.nl/wp-content/uploads/2019/01/IMG_0782.jpg
END:VEVENT
END:VCALENDAR