BEGIN:VCALENDAR
VERSION:2.0
PRODID:-// - ECPv6.12.0.1//NONSGML v1.0//EN
CALSCALE:GREGORIAN
METHOD:PUBLISH
X-ORIGINAL-URL:https://www.deballoohoeve.nl
X-WR-CALDESC:Evenementen voor 
REFRESH-INTERVAL;VALUE=DURATION:PT1H
X-Robots-Tag:noindex
X-PUBLISHED-TTL:PT1H
BEGIN:VTIMEZONE
TZID:Europe/Amsterdam
BEGIN:DAYLIGHT
TZOFFSETFROM:+0100
TZOFFSETTO:+0200
TZNAME:CEST
DTSTART:20220327T010000
END:DAYLIGHT
BEGIN:STANDARD
TZOFFSETFROM:+0200
TZOFFSETTO:+0100
TZNAME:CET
DTSTART:20221030T010000
END:STANDARD
END:VTIMEZONE
BEGIN:VEVENT
DTSTART;TZID=Europe/Amsterdam:20221203T090000
DTEND;TZID=Europe/Amsterdam:20221203T150000
DTSTAMP:20260423T105230
CREATED:20221110T123057Z
LAST-MODIFIED:20221110T123057Z
UID:4421-1670058000-1670079600@www.deballoohoeve.nl
SUMMARY:Tentoonstelling van konijnen en cavia's
DESCRIPTION:Noordrenthe show van kleindierensportverenigingen Assen\, Eelde\, Gieten\, Roden en Vries
URL:https://www.deballoohoeve.nl/event/tentoonstelling-van-konijnen-en-cavias/
END:VEVENT
BEGIN:VEVENT
DTSTART;TZID=Europe/Amsterdam:20221209T160000
DTEND;TZID=Europe/Amsterdam:20221209T210000
DTSTAMP:20260423T105230
CREATED:20220830T124243Z
LAST-MODIFIED:20221110T125901Z
UID:4065-1670601600-1670619600@www.deballoohoeve.nl
SUMMARY:Kerstmarkt 2022
DESCRIPTION:Overdekte kerstmarkt op de Balloohoeve.\nInformatie voor standhouders mail naar markt@deballoohoeve.nl
URL:https://www.deballoohoeve.nl/event/kerstmarkt-2022/
END:VEVENT
BEGIN:VEVENT
DTSTART;TZID=Europe/Amsterdam:20221210T110000
DTEND;TZID=Europe/Amsterdam:20221210T210000
DTSTAMP:20260423T105230
CREATED:20220830T124337Z
LAST-MODIFIED:20221110T125814Z
UID:4067-1670670000-1670706000@www.deballoohoeve.nl
SUMMARY:Kerstmarkt 2022
DESCRIPTION:Overdekte kerstmarkt op de Balloohoeve\ninformatie voor standhouders mail naar: markt@deballoohoeve.nl
URL:https://www.deballoohoeve.nl/event/kerstmarkt-2022-2/
END:VEVENT
BEGIN:VEVENT
DTSTART;TZID=Europe/Amsterdam:20221211T110000
DTEND;TZID=Europe/Amsterdam:20221211T160000
DTSTAMP:20260423T105230
CREATED:20220830T124453Z
LAST-MODIFIED:20221110T125629Z
UID:4069-1670756400-1670774400@www.deballoohoeve.nl
SUMMARY:Kerstmarkt 2022
DESCRIPTION:Overdekte kerstmarkt op De Balloohoeve\ninformatie voor standhouders mail naar: markt@deballoohoeve.nl
URL:https://www.deballoohoeve.nl/event/kerstmarkt-2022-3/
END:VEVENT
END:VCALENDAR